BEGIN:VCALENDAR
VERSION:2.0
PRODID:-//TCS ROCKETS - ECPv6.7.0//NONSGML v1.0//EN
CALSCALE:GREGORIAN
METHOD:PUBLISH
X-WR-CALNAME:TCS ROCKETS
X-ORIGINAL-URL:https://tcsrockets.com
X-WR-CALDESC:Events for TCS ROCKETS
REFRESH-INTERVAL;VALUE=DURATION:PT1H
X-Robots-Tag:noindex
X-PUBLISHED-TTL:PT1H
BEGIN:VTIMEZONE
TZID:America/Los_Angeles
BEGIN:DAYLIGHT
TZOFFSETFROM:-0800
TZOFFSETTO:-0700
TZNAME:PDT
DTSTART:20210314T100000
END:DAYLIGHT
BEGIN:STANDARD
TZOFFSETFROM:-0700
TZOFFSETTO:-0800
TZNAME:PST
DTSTART:20211107T090000
END:STANDARD
END:VTIMEZONE
BEGIN:VEVENT
DTSTART;TZID=America/Los_Angeles:20210531T183000
DTEND;TZID=America/Los_Angeles:20210531T203000
DTSTAMP:20260425T154219
CREATED:20210511T032002Z
LAST-MODIFIED:20251202T024259Z
UID:8176-1622485800-1622493000@tcsrockets.com
SUMMARY:Modern
DESCRIPTION:Modern is a constructed format and therefore adheres to the following constructed rules: \n\nMinimum of sixty cards\nCards from Core Set Eighth Edition and Mirrodin through today\nNo maximum deck size\, as long as you can shuffle your deck unassisted\nUp to fifteen cards in your sideboard\, if used\n\nWith the exception of basic lands (Plains\, Island\, Swamp\, Mountain\, Forest\, and Wastes)\, your combined deck and sideboard may not contain more than four of any individual card\, counted by its English card title equivalent. \nNote: The five snow-covered lands from the Ice Age block Snow-Covered Plains\, Snow-Covered Island\, Snow-Covered Swamp\, Snow-Covered Mountain\, and Snow-Covered Forest are also basic lands. Snow-covered lands are only permitted in formats that allow expansions from the Ice Age block.
URL:https://tcsrockets.com/event/modern/2021-05-31/
CATEGORIES:Magic the Gathering
ATTACH;FMTTYPE=image/jpeg:https://tcsrockets.com/wp-content/uploads/2021/05/modern-mtg-event-san-diego.jpg
END:VEVENT
BEGIN:VEVENT
DTSTART;TZID=America/Los_Angeles:20210528T183000
DTEND;TZID=America/Los_Angeles:20210528T203000
DTSTAMP:20260425T154219
CREATED:20210511T045255Z
LAST-MODIFIED:20260324T172416Z
UID:9517-1622226600-1622233800@tcsrockets.com
SUMMARY:MTG: Draft
DESCRIPTION:Drafting is a limited format of Magic: The Gathering. Instead of building a deck ahead of time\, you construct one from cards you get during the event itself by opening booster packs.
URL:https://tcsrockets.com/event/draft/2021-05-28/
CATEGORIES:Magic the Gathering
ATTACH;FMTTYPE=image/jpeg:https://tcsrockets.com/wp-content/uploads/2021/06/draft-mtg-events-san-diego.jpg
END:VEVENT
BEGIN:VEVENT
DTSTART;TZID=America/Los_Angeles:20210528T183000
DTEND;TZID=America/Los_Angeles:20210528T203000
DTSTAMP:20260425T154219
CREATED:20210511T030150Z
LAST-MODIFIED:20240628T235447Z
UID:8016-1622226600-1622233800@tcsrockets.com
SUMMARY:Standard
DESCRIPTION:The Standard format uses the most recently released Magic sets. Standard is a dynamic format where you build decks and play using cards in your collection from recently released Magic sets. Evolving gameplay and fresh strategies make it one of the most fun and popular ways to play Magic.
URL:https://tcsrockets.com/event/standard/2021-05-28/
CATEGORIES:Magic the Gathering
ATTACH;FMTTYPE=image/jpeg:https://tcsrockets.com/wp-content/uploads/2021/05/standard-mtg-events-san-diego.jpg
END:VEVENT
END:VCALENDAR