BEGIN:VCALENDAR
VERSION:2.0
PRODID:-//TCS ROCKETS - ECPv6.7.0//NONSGML v1.0//EN
CALSCALE:GREGORIAN
METHOD:PUBLISH
X-WR-CALNAME:TCS ROCKETS
X-ORIGINAL-URL:https://tcsrockets.com
X-WR-CALDESC:Events for TCS ROCKETS
REFRESH-INTERVAL;VALUE=DURATION:PT1H
X-Robots-Tag:noindex
X-PUBLISHED-TTL:PT1H
BEGIN:VTIMEZONE
TZID:America/Los_Angeles
BEGIN:DAYLIGHT
TZOFFSETFROM:-0800
TZOFFSETTO:-0700
TZNAME:PDT
DTSTART:20260308T100000
END:DAYLIGHT
BEGIN:STANDARD
TZOFFSETFROM:-0700
TZOFFSETTO:-0800
TZNAME:PST
DTSTART:20261101T090000
END:STANDARD
END:VTIMEZONE
BEGIN:VEVENT
DTSTART;TZID=America/Los_Angeles:20260301T120000
DTEND;TZID=America/Los_Angeles:20260301T170000
DTSTAMP:20260425T093731
CREATED:20251028T035132Z
LAST-MODIFIED:20251028T040337Z
UID:115901-1772366400-1772384400@tcsrockets.com
SUMMARY:Riftbound
DESCRIPTION:
URL:https://tcsrockets.com/event/riftbound/2026-03-01/
CATEGORIES:Riftbound
END:VEVENT
BEGIN:VEVENT
DTSTART;TZID=America/Los_Angeles:20260303T183000
DTEND;TZID=America/Los_Angeles:20260303T170000
DTSTAMP:20260425T093731
CREATED:20251028T040333Z
LAST-MODIFIED:20251212T192041Z
UID:139610-1772562600-1772557200@tcsrockets.com
SUMMARY:Riftbound
DESCRIPTION:
URL:https://tcsrockets.com/event/riftbound-2/2026-03-03/
CATEGORIES:Riftbound
END:VEVENT
BEGIN:VEVENT
DTSTART;TZID=America/Los_Angeles:20260306T180000
DTEND;TZID=America/Los_Angeles:20260306T220000
DTSTAMP:20260425T093731
CREATED:20251028T040333Z
LAST-MODIFIED:20251028T040333Z
UID:152441-1772820000-1772834400@tcsrockets.com
SUMMARY:Riftbound
DESCRIPTION:
URL:https://tcsrockets.com/event/riftbound-2/2026-03-06/
CATEGORIES:Riftbound
END:VEVENT
BEGIN:VEVENT
DTSTART;TZID=America/Los_Angeles:20260308T120000
DTEND;TZID=America/Los_Angeles:20260308T170000
DTSTAMP:20260425T093731
CREATED:20251028T035132Z
LAST-MODIFIED:20251028T040338Z
UID:115902-1772971200-1772989200@tcsrockets.com
SUMMARY:Riftbound
DESCRIPTION:
URL:https://tcsrockets.com/event/riftbound/2026-03-08/
CATEGORIES:Riftbound
END:VEVENT
BEGIN:VEVENT
DTSTART;TZID=America/Los_Angeles:20260310T183000
DTEND;TZID=America/Los_Angeles:20260310T170000
DTSTAMP:20260425T093731
CREATED:20251028T040333Z
LAST-MODIFIED:20251212T192042Z
UID:139611-1773167400-1773162000@tcsrockets.com
SUMMARY:Riftbound
DESCRIPTION:
URL:https://tcsrockets.com/event/riftbound-2/2026-03-10/
CATEGORIES:Riftbound
END:VEVENT
BEGIN:VEVENT
DTSTART;TZID=America/Los_Angeles:20260313T180000
DTEND;TZID=America/Los_Angeles:20260313T220000
DTSTAMP:20260425T093731
CREATED:20251028T040333Z
LAST-MODIFIED:20251028T040333Z
UID:152442-1773424800-1773439200@tcsrockets.com
SUMMARY:Riftbound
DESCRIPTION:
URL:https://tcsrockets.com/event/riftbound-2/2026-03-13/
CATEGORIES:Riftbound
END:VEVENT
BEGIN:VEVENT
DTSTART;TZID=America/Los_Angeles:20260315T120000
DTEND;TZID=America/Los_Angeles:20260315T170000
DTSTAMP:20260425T093731
CREATED:20251028T035132Z
LAST-MODIFIED:20251028T040339Z
UID:115903-1773576000-1773594000@tcsrockets.com
SUMMARY:Riftbound
DESCRIPTION:
URL:https://tcsrockets.com/event/riftbound/2026-03-15/
CATEGORIES:Riftbound
END:VEVENT
BEGIN:VEVENT
DTSTART;TZID=America/Los_Angeles:20260317T183000
DTEND;TZID=America/Los_Angeles:20260317T170000
DTSTAMP:20260425T093731
CREATED:20251028T040333Z
LAST-MODIFIED:20251212T192042Z
UID:139612-1773772200-1773766800@tcsrockets.com
SUMMARY:Riftbound
DESCRIPTION:
URL:https://tcsrockets.com/event/riftbound-2/2026-03-17/
CATEGORIES:Riftbound
END:VEVENT
BEGIN:VEVENT
DTSTART;TZID=America/Los_Angeles:20260320T180000
DTEND;TZID=America/Los_Angeles:20260320T220000
DTSTAMP:20260425T093731
CREATED:20251028T040333Z
LAST-MODIFIED:20251028T040333Z
UID:152443-1774029600-1774044000@tcsrockets.com
SUMMARY:Riftbound
DESCRIPTION:
URL:https://tcsrockets.com/event/riftbound-2/2026-03-20/
CATEGORIES:Riftbound
END:VEVENT
BEGIN:VEVENT
DTSTART;TZID=America/Los_Angeles:20260321T100000
DTEND;TZID=America/Los_Angeles:20260321T170000
DTSTAMP:20260425T093731
CREATED:20251202T023529Z
LAST-MODIFIED:20260324T171441Z
UID:160114-1774087200-1774112400@tcsrockets.com
SUMMARY:Riftbound: Summoner's Skirmish
DESCRIPTION:(Stream)
URL:https://tcsrockets.com/event/riftbound-summoners-skirmish/2026-03-21/
CATEGORIES:Riftbound
ATTACH;FMTTYPE=image/jpeg:https://tcsrockets.com/wp-content/uploads/2025/12/riftbound-summoner-skirmish-san-diego.jpg
END:VEVENT
BEGIN:VEVENT
DTSTART;TZID=America/Los_Angeles:20260322T120000
DTEND;TZID=America/Los_Angeles:20260322T170000
DTSTAMP:20260425T093731
CREATED:20251028T035132Z
LAST-MODIFIED:20251028T040341Z
UID:115904-1774180800-1774198800@tcsrockets.com
SUMMARY:Riftbound
DESCRIPTION:
URL:https://tcsrockets.com/event/riftbound/2026-03-22/
CATEGORIES:Riftbound
END:VEVENT
BEGIN:VEVENT
DTSTART;TZID=America/Los_Angeles:20260324T183000
DTEND;TZID=America/Los_Angeles:20260324T170000
DTSTAMP:20260425T093731
CREATED:20251028T040333Z
LAST-MODIFIED:20251212T192044Z
UID:139613-1774377000-1774371600@tcsrockets.com
SUMMARY:Riftbound
DESCRIPTION:
URL:https://tcsrockets.com/event/riftbound-2/2026-03-24/
CATEGORIES:Riftbound
END:VEVENT
BEGIN:VEVENT
DTSTART;TZID=America/Los_Angeles:20260327T180000
DTEND;TZID=America/Los_Angeles:20260327T220000
DTSTAMP:20260425T093731
CREATED:20251028T040333Z
LAST-MODIFIED:20251028T040333Z
UID:152444-1774634400-1774648800@tcsrockets.com
SUMMARY:Riftbound
DESCRIPTION:
URL:https://tcsrockets.com/event/riftbound-2/2026-03-27/
CATEGORIES:Riftbound
END:VEVENT
BEGIN:VEVENT
DTSTART;TZID=America/Los_Angeles:20260329T120000
DTEND;TZID=America/Los_Angeles:20260329T170000
DTSTAMP:20260425T093731
CREATED:20251028T035132Z
LAST-MODIFIED:20251028T040344Z
UID:115905-1774785600-1774803600@tcsrockets.com
SUMMARY:Riftbound
DESCRIPTION:
URL:https://tcsrockets.com/event/riftbound/2026-03-29/
CATEGORIES:Riftbound
END:VEVENT
BEGIN:VEVENT
DTSTART;TZID=America/Los_Angeles:20260331T183000
DTEND;TZID=America/Los_Angeles:20260331T170000
DTSTAMP:20260425T093731
CREATED:20251028T040333Z
LAST-MODIFIED:20251212T192044Z
UID:139614-1774981800-1774976400@tcsrockets.com
SUMMARY:Riftbound
DESCRIPTION:
URL:https://tcsrockets.com/event/riftbound-2/2026-03-31/
CATEGORIES:Riftbound
END:VEVENT
END:VCALENDAR