BEGIN:VCALENDAR
VERSION:2.0
PRODID:-//TCS ROCKETS - ECPv6.7.0//NONSGML v1.0//EN
CALSCALE:GREGORIAN
METHOD:PUBLISH
X-ORIGINAL-URL:https://tcsrockets.com
X-WR-CALDESC:Events for TCS ROCKETS
REFRESH-INTERVAL;VALUE=DURATION:PT1H
X-Robots-Tag:noindex
X-PUBLISHED-TTL:PT1H
BEGIN:VTIMEZONE
TZID:America/Los_Angeles
BEGIN:DAYLIGHT
TZOFFSETFROM:-0800
TZOFFSETTO:-0700
TZNAME:PDT
DTSTART:20250309T100000
END:DAYLIGHT
BEGIN:STANDARD
TZOFFSETFROM:-0700
TZOFFSETTO:-0800
TZNAME:PST
DTSTART:20251102T090000
END:STANDARD
BEGIN:DAYLIGHT
TZOFFSETFROM:-0800
TZOFFSETTO:-0700
TZNAME:PDT
DTSTART:20260308T100000
END:DAYLIGHT
BEGIN:STANDARD
TZOFFSETFROM:-0700
TZOFFSETTO:-0800
TZNAME:PST
DTSTART:20261101T090000
END:STANDARD
END:VTIMEZONE
BEGIN:VEVENT
DTSTART;TZID=America/Los_Angeles:20260419T120000
DTEND;TZID=America/Los_Angeles:20260419T170000
DTSTAMP:20260421T084448
CREATED:20251028T035032Z
LAST-MODIFIED:20251028T035032Z
UID:115745-1776600000-1776618000@tcsrockets.com
SUMMARY:French Commander
DESCRIPTION:
URL:https://tcsrockets.com/event/french-commander/2026-04-19/
CATEGORIES:Magic the Gathering
END:VEVENT
BEGIN:VEVENT
DTSTART;TZID=America/Los_Angeles:20260412T120000
DTEND;TZID=America/Los_Angeles:20260412T170000
DTSTAMP:20260421T084448
CREATED:20251028T035032Z
LAST-MODIFIED:20251028T035032Z
UID:115744-1775995200-1776013200@tcsrockets.com
SUMMARY:French Commander
DESCRIPTION:
URL:https://tcsrockets.com/event/french-commander/2026-04-12/
CATEGORIES:Magic the Gathering
END:VEVENT
BEGIN:VEVENT
DTSTART;TZID=America/Los_Angeles:20260405T120000
DTEND;TZID=America/Los_Angeles:20260405T170000
DTSTAMP:20260421T084448
CREATED:20251028T035032Z
LAST-MODIFIED:20251028T035032Z
UID:115742-1775390400-1775408400@tcsrockets.com
SUMMARY:French Commander
DESCRIPTION:
URL:https://tcsrockets.com/event/french-commander/2026-04-05/
CATEGORIES:Magic the Gathering
END:VEVENT
BEGIN:VEVENT
DTSTART;TZID=America/Los_Angeles:20260329T120000
DTEND;TZID=America/Los_Angeles:20260329T170000
DTSTAMP:20260421T084448
CREATED:20251028T035032Z
LAST-MODIFIED:20251028T035032Z
UID:115741-1774785600-1774803600@tcsrockets.com
SUMMARY:French Commander
DESCRIPTION:
URL:https://tcsrockets.com/event/french-commander/2026-03-29/
CATEGORIES:Magic the Gathering
END:VEVENT
BEGIN:VEVENT
DTSTART;TZID=America/Los_Angeles:20260322T120000
DTEND;TZID=America/Los_Angeles:20260322T170000
DTSTAMP:20260421T084449
CREATED:20251028T035032Z
LAST-MODIFIED:20251028T035032Z
UID:115739-1774180800-1774198800@tcsrockets.com
SUMMARY:French Commander
DESCRIPTION:
URL:https://tcsrockets.com/event/french-commander/2026-03-22/
CATEGORIES:Magic the Gathering
END:VEVENT
BEGIN:VEVENT
DTSTART;TZID=America/Los_Angeles:20260315T120000
DTEND;TZID=America/Los_Angeles:20260315T170000
DTSTAMP:20260421T084449
CREATED:20251028T035032Z
LAST-MODIFIED:20251028T035032Z
UID:115736-1773576000-1773594000@tcsrockets.com
SUMMARY:French Commander
DESCRIPTION:
URL:https://tcsrockets.com/event/french-commander/2026-03-15/
CATEGORIES:Magic the Gathering
END:VEVENT
BEGIN:VEVENT
DTSTART;TZID=America/Los_Angeles:20260308T120000
DTEND;TZID=America/Los_Angeles:20260308T170000
DTSTAMP:20260421T084449
CREATED:20251028T035032Z
LAST-MODIFIED:20251028T035032Z
UID:115734-1772971200-1772989200@tcsrockets.com
SUMMARY:French Commander
DESCRIPTION:
URL:https://tcsrockets.com/event/french-commander/2026-03-08/
CATEGORIES:Magic the Gathering
END:VEVENT
BEGIN:VEVENT
DTSTART;TZID=America/Los_Angeles:20260301T120000
DTEND;TZID=America/Los_Angeles:20260301T170000
DTSTAMP:20260421T084449
CREATED:20251028T035032Z
LAST-MODIFIED:20251028T035032Z
UID:115732-1772366400-1772384400@tcsrockets.com
SUMMARY:French Commander
DESCRIPTION:
URL:https://tcsrockets.com/event/french-commander/2026-03-01/
CATEGORIES:Magic the Gathering
END:VEVENT
BEGIN:VEVENT
DTSTART;TZID=America/Los_Angeles:20260222T120000
DTEND;TZID=America/Los_Angeles:20260222T170000
DTSTAMP:20260421T084449
CREATED:20251028T035032Z
LAST-MODIFIED:20251028T035032Z
UID:115730-1771761600-1771779600@tcsrockets.com
SUMMARY:French Commander
DESCRIPTION:
URL:https://tcsrockets.com/event/french-commander/2026-02-22/
CATEGORIES:Magic the Gathering
END:VEVENT
BEGIN:VEVENT
DTSTART;TZID=America/Los_Angeles:20260215T120000
DTEND;TZID=America/Los_Angeles:20260215T170000
DTSTAMP:20260421T084449
CREATED:20251028T035032Z
LAST-MODIFIED:20251028T035032Z
UID:115728-1771156800-1771174800@tcsrockets.com
SUMMARY:French Commander
DESCRIPTION:
URL:https://tcsrockets.com/event/french-commander/2026-02-15/
CATEGORIES:Magic the Gathering
END:VEVENT
BEGIN:VEVENT
DTSTART;TZID=America/Los_Angeles:20260208T120000
DTEND;TZID=America/Los_Angeles:20260208T170000
DTSTAMP:20260421T084449
CREATED:20251028T035032Z
LAST-MODIFIED:20251028T035032Z
UID:115726-1770552000-1770570000@tcsrockets.com
SUMMARY:French Commander
DESCRIPTION:
URL:https://tcsrockets.com/event/french-commander/2026-02-08/
CATEGORIES:Magic the Gathering
END:VEVENT
BEGIN:VEVENT
DTSTART;TZID=America/Los_Angeles:20260201T120000
DTEND;TZID=America/Los_Angeles:20260201T170000
DTSTAMP:20260421T084449
CREATED:20251028T035032Z
LAST-MODIFIED:20251028T035032Z
UID:115724-1769947200-1769965200@tcsrockets.com
SUMMARY:French Commander
DESCRIPTION:
URL:https://tcsrockets.com/event/french-commander/2026-02-01/
CATEGORIES:Magic the Gathering
END:VEVENT
BEGIN:VEVENT
DTSTART;TZID=America/Los_Angeles:20260125T120000
DTEND;TZID=America/Los_Angeles:20260125T170000
DTSTAMP:20260421T084449
CREATED:20251028T035032Z
LAST-MODIFIED:20251028T035032Z
UID:115722-1769342400-1769360400@tcsrockets.com
SUMMARY:French Commander
DESCRIPTION:
URL:https://tcsrockets.com/event/french-commander/2026-01-25/
CATEGORIES:Magic the Gathering
END:VEVENT
BEGIN:VEVENT
DTSTART;TZID=America/Los_Angeles:20260118T120000
DTEND;TZID=America/Los_Angeles:20260118T170000
DTSTAMP:20260421T084449
CREATED:20251028T035032Z
LAST-MODIFIED:20251028T035032Z
UID:115721-1768737600-1768755600@tcsrockets.com
SUMMARY:French Commander
DESCRIPTION:
URL:https://tcsrockets.com/event/french-commander/2026-01-18/
CATEGORIES:Magic the Gathering
END:VEVENT
BEGIN:VEVENT
DTSTART;TZID=America/Los_Angeles:20260111T120000
DTEND;TZID=America/Los_Angeles:20260111T170000
DTSTAMP:20260421T084449
CREATED:20251028T035032Z
LAST-MODIFIED:20251028T035032Z
UID:115714-1768132800-1768150800@tcsrockets.com
SUMMARY:French Commander
DESCRIPTION:
URL:https://tcsrockets.com/event/french-commander/2026-01-11/
CATEGORIES:Magic the Gathering
END:VEVENT
BEGIN:VEVENT
DTSTART;TZID=America/Los_Angeles:20260104T120000
DTEND;TZID=America/Los_Angeles:20260104T170000
DTSTAMP:20260421T084449
CREATED:20251028T035032Z
LAST-MODIFIED:20251028T035032Z
UID:115712-1767528000-1767546000@tcsrockets.com
SUMMARY:French Commander
DESCRIPTION:
URL:https://tcsrockets.com/event/french-commander/2026-01-04/
CATEGORIES:Magic the Gathering
END:VEVENT
BEGIN:VEVENT
DTSTART;TZID=America/Los_Angeles:20251228T120000
DTEND;TZID=America/Los_Angeles:20251228T170000
DTSTAMP:20260421T084449
CREATED:20251028T035032Z
LAST-MODIFIED:20251028T035032Z
UID:115710-1766923200-1766941200@tcsrockets.com
SUMMARY:French Commander
DESCRIPTION:
URL:https://tcsrockets.com/event/french-commander/2025-12-28/
CATEGORIES:Magic the Gathering
END:VEVENT
BEGIN:VEVENT
DTSTART;TZID=America/Los_Angeles:20251221T120000
DTEND;TZID=America/Los_Angeles:20251221T170000
DTSTAMP:20260421T084449
CREATED:20251028T035032Z
LAST-MODIFIED:20251028T035032Z
UID:115708-1766318400-1766336400@tcsrockets.com
SUMMARY:French Commander
DESCRIPTION:
URL:https://tcsrockets.com/event/french-commander/2025-12-21/
CATEGORIES:Magic the Gathering
END:VEVENT
BEGIN:VEVENT
DTSTART;TZID=America/Los_Angeles:20251214T120000
DTEND;TZID=America/Los_Angeles:20251214T170000
DTSTAMP:20260421T084449
CREATED:20251028T035032Z
LAST-MODIFIED:20251028T035032Z
UID:115706-1765713600-1765731600@tcsrockets.com
SUMMARY:French Commander
DESCRIPTION:
URL:https://tcsrockets.com/event/french-commander/2025-12-14/
CATEGORIES:Magic the Gathering
END:VEVENT
BEGIN:VEVENT
DTSTART;TZID=America/Los_Angeles:20251207T120000
DTEND;TZID=America/Los_Angeles:20251207T170000
DTSTAMP:20260421T084449
CREATED:20251028T035032Z
LAST-MODIFIED:20251028T035032Z
UID:115705-1765108800-1765126800@tcsrockets.com
SUMMARY:French Commander
DESCRIPTION:
URL:https://tcsrockets.com/event/french-commander/2025-12-07/
CATEGORIES:Magic the Gathering
END:VEVENT
BEGIN:VEVENT
DTSTART;TZID=America/Los_Angeles:20251130T120000
DTEND;TZID=America/Los_Angeles:20251130T170000
DTSTAMP:20260421T084449
CREATED:20251028T035032Z
LAST-MODIFIED:20251028T035032Z
UID:115703-1764504000-1764522000@tcsrockets.com
SUMMARY:French Commander
DESCRIPTION:
URL:https://tcsrockets.com/event/french-commander/2025-11-30/
CATEGORIES:Magic the Gathering
END:VEVENT
BEGIN:VEVENT
DTSTART;TZID=America/Los_Angeles:20251123T120000
DTEND;TZID=America/Los_Angeles:20251123T170000
DTSTAMP:20260421T084449
CREATED:20251028T035032Z
LAST-MODIFIED:20251028T035032Z
UID:115701-1763899200-1763917200@tcsrockets.com
SUMMARY:French Commander
DESCRIPTION:
URL:https://tcsrockets.com/event/french-commander/2025-11-23/
CATEGORIES:Magic the Gathering
END:VEVENT
BEGIN:VEVENT
DTSTART;TZID=America/Los_Angeles:20251116T120000
DTEND;TZID=America/Los_Angeles:20251116T170000
DTSTAMP:20260421T084449
CREATED:20251028T035032Z
LAST-MODIFIED:20251028T035032Z
UID:115699-1763294400-1763312400@tcsrockets.com
SUMMARY:French Commander
DESCRIPTION:
URL:https://tcsrockets.com/event/french-commander/2025-11-16/
CATEGORIES:Magic the Gathering
END:VEVENT
BEGIN:VEVENT
DTSTART;TZID=America/Los_Angeles:20251109T120000
DTEND;TZID=America/Los_Angeles:20251109T170000
DTSTAMP:20260421T084449
CREATED:20251028T035032Z
LAST-MODIFIED:20251028T035032Z
UID:115697-1762689600-1762707600@tcsrockets.com
SUMMARY:French Commander
DESCRIPTION:
URL:https://tcsrockets.com/event/french-commander/2025-11-09/
CATEGORIES:Magic the Gathering
END:VEVENT
BEGIN:VEVENT
DTSTART;TZID=America/Los_Angeles:20251102T120000
DTEND;TZID=America/Los_Angeles:20251102T170000
DTSTAMP:20260421T084449
CREATED:20251028T035032Z
LAST-MODIFIED:20251028T035032Z
UID:115636-1762084800-1762102800@tcsrockets.com
SUMMARY:French Commander
DESCRIPTION:
URL:https://tcsrockets.com/event/french-commander/2025-11-02/
CATEGORIES:Magic the Gathering
END:VEVENT
END:VCALENDAR